BEGIN:VCALENDAR
VERSION:2.0
PRODID:-//ipc-usa.org//NONSGML kigkonsult.se iCalcreator 2.30.10//
CALSCALE:GREGORIAN
METHOD:PUBLISH
UID:de69f537-281c-4ae4-99fd-e8144d0e744e
X-WR-CALDESC:Place your order by noon on Tuesdays and pick it up on Wednesd
 ays between 5:30 and 6 pm in the Great Hall. Meals from Kim's Kitchen incl
 ude dinner options for adults and children and family casseroles. If you n
 eed to make arrangements for a later pick-up time\, just let Sandra or Kim
  know\, and we will be happy to assist you. <b>The last Wednesday night di
 nner for this year is Wednesday\, November 20.</b>
X-WR-RELCALID:61dec1f6a2df4adedd326a34b1840e71
X-WR-TIMEZONE:America/Chicago
BEGIN:VTIMEZONE
TZID:America/Chicago
BEGIN:STANDARD
TZNAME:CST
DTSTART:20231105T020000
TZOFFSETFROM:-0500
TZOFFSETTO:-0600
RDATE:20241103T020000
RDATE:20251102T020000
END:STANDARD
BEGIN:DAYLIGHT
TZNAME:CDT
DTSTART:20240310T020000
TZOFFSETFROM:-0600
TZOFFSETTO:-0500
RDATE:20250309T020000
RDATE:20260308T020000
END:DAYLIGHT
END:VTIMEZONE
BEGIN:VEVENT
UID:d9984b37-d81a-400e-8d2e-c12edddfde72
DTSTAMP:20260420T104437Z
DESCRIPTION:Place your order by noon on Tuesdays and pick it up on Wednesda
 ys between 5:30 and 6 pm in the Great Hall. Meals from Kim's Kitchen inclu
 de dinner options for adults and children and family casseroles. If you ne
 ed to make arrangements for a later pick-up time\, just let Sandra or Kim 
 know\, and we will be happy to assist you. <b>The last Wednesday night din
 ner for this year is Wednesday\, November 20.</b>
DTSTART;TZID=America/Chicago:20241031T010000
DTEND;TZID=America/Chicago:20241120T000000
LOCATION:Pick-up Dinner: 5:30 - 6 pm
SUMMARY:Wednesday Night Dinner | November
END:VEVENT
END:VCALENDAR
