BEGIN:VCALENDAR
VERSION:2.0
PRODID:-//ipc-usa.org//NONSGML kigkonsult.se iCalcreator 2.30.10//
CALSCALE:GREGORIAN
METHOD:PUBLISH
UID:20f06287-03ef-4f85-9ff2-603d6cef8e12
X-WR-CALDESC:Join us at 4 pm in the Sanctuary or via livestream for a servi
 ce led by the IPC Camerata. You will hear music by the composers Richard W
 ebster and Herbert Howells. Organist Richard Byrd from First United Method
 ist Church\, Birmingham\, will play the closing voluntaries.\n\nEvensong l
 iturgy has been offered for nearly a thousand years. Here you will experie
 nce beauty\, and welcome the voice of God into your heart through art\, mu
 sic\, and liturgy.
X-WR-RELCALID:9a836bac76eae9ce22aa6e5be26c93dc
X-WR-TIMEZONE:America/Chicago
BEGIN:VTIMEZONE
TZID:America/Chicago
BEGIN:STANDARD
TZNAME:CST
DTSTART:20231105T020000
TZOFFSETFROM:-0500
TZOFFSETTO:-0600
RDATE:20241103T020000
END:STANDARD
BEGIN:DAYLIGHT
TZNAME:CDT
DTSTART:20230312T020000
TZOFFSETFROM:-0600
TZOFFSETTO:-0500
RDATE:20240310T020000
RDATE:20250309T020000
END:DAYLIGHT
END:VTIMEZONE
BEGIN:VEVENT
UID:bd563b44-63a5-426f-a94e-c7e87f320e69
DTSTAMP:20260422T031901Z
DESCRIPTION:Join us at 4 pm in the Sanctuary or via livestream for a servic
 e led by the IPC Camerata. You will hear music by the composers Richard We
 bster and Herbert Howells. Organist Richard Byrd from First United Methodi
 st Church\, Birmingham\, will play the closing voluntaries.\n\nEvensong li
 turgy has been offered for nearly a thousand years. Here you will experien
 ce beauty\, and welcome the voice of God into your heart through art\, mus
 ic\, and liturgy.
DTSTART;TZID=America/Chicago:20240225T160000
DTEND;TZID=America/Chicago:20240225T170000
LOCATION:Sanctuary
SUMMARY:Choral Evensong
END:VEVENT
END:VCALENDAR
