BEGIN:VCALENDAR
VERSION:2.0
PRODID:-//ipc-usa.org//NONSGML kigkonsult.se iCalcreator 2.30.10//
CALSCALE:GREGORIAN
METHOD:PUBLISH
UID:ee7f4b14-9e14-45cf-bfd9-9af477c2a2d3
X-WR-CALDESC:This year’s Focus on Faith speaker is Dr. Anne Emile Zaki\, As
 sistant Professor of Preaching and Practical Theology at the Evangelical T
 heological Seminary in Cairo\, Egypt\, a school founded by early Presbyter
 ian missionaries in 1863. \n\n<b>Schedule of Events</b>\n- 8:45 & 11 am Wo
 rship Services in the Sanctuary\n- 10 am Sunday School Class in the Sanctu
 ary\n- 5 pm Table Service in Highland Hall (video replay of morning sermon
 )
X-WR-RELCALID:5614194ee5837964d2841c301806da7d
X-WR-TIMEZONE:America/Chicago
BEGIN:VTIMEZONE
TZID:America/Chicago
BEGIN:STANDARD
TZNAME:CST
DTSTART:20251102T020000
TZOFFSETFROM:-0500
TZOFFSETTO:-0600
RDATE:20261101T020000
END:STANDARD
BEGIN:DAYLIGHT
TZNAME:CDT
DTSTART:20260308T020000
TZOFFSETFROM:-0600
TZOFFSETTO:-0500
RDATE:20270314T020000
END:DAYLIGHT
END:VTIMEZONE
BEGIN:VEVENT
UID:1bb2136a-b973-45a0-b407-09e390cc3e11
DTSTAMP:20260420T020340Z
DESCRIPTION:This year’s Focus on Faith speaker is Dr. Anne Emile Zaki\, Ass
 istant Professor of Preaching and Practical Theology at the Evangelical Th
 eological Seminary in Cairo\, Egypt\, a school founded by early Presbyteri
 an missionaries in 1863. \n\n<b>Schedule of Events</b>\n- 8:45 & 11 am Wor
 ship Services in the Sanctuary\n- 10 am Sunday School Class in the Sanctua
 ry\n- 5 pm Table Service in Highland Hall (video replay of morning sermon)
DTSTART;TZID=America/Chicago:20260503T050000
DTEND;TZID=America/Chicago:20260503T050001
LOCATION:Sanctuary
SUMMARY:Focus on Faith Speaker: Dr. Anne Emile Zaki
END:VEVENT
END:VCALENDAR
