BEGIN:VCALENDAR
VERSION:2.0
PRODID:-//ipc-usa.org//NONSGML kigkonsult.se iCalcreator 2.30.10//
CALSCALE:GREGORIAN
METHOD:PUBLISH
UID:eaeea5da-af00-47ab-89a0-a08e8af163e4
X-WR-CALDESC:All are welcome to join us during our annual Youth Sunday. Our
  youth (7-12th grade) have been diligently preparing since January to lead
  the congregation in all elements of worship during each service including
  preaching\, music\, liturgy\, and more. We will also recognize our high s
 chool seniors and acolytes in the 11 am traditional service.
X-WR-RELCALID:b1c724dec061e4b40ecafccfc8fa71e0
X-WR-TIMEZONE:America/Chicago
BEGIN:VTIMEZONE
TZID:America/Chicago
BEGIN:STANDARD
TZNAME:CST
DTSTART:20241103T020000
TZOFFSETFROM:-0500
TZOFFSETTO:-0600
RDATE:20251102T020000
END:STANDARD
BEGIN:DAYLIGHT
TZNAME:CDT
DTSTART:20250309T020000
TZOFFSETFROM:-0600
TZOFFSETTO:-0500
RDATE:20260308T020000
END:DAYLIGHT
END:VTIMEZONE
BEGIN:VEVENT
UID:cba6eabf-ac76-4bee-baaa-53c67095de49
DTSTAMP:20260420T002723Z
DESCRIPTION:All are welcome to join us during our annual Youth Sunday. Our 
 youth (7-12th grade) have been diligently preparing since January to lead 
 the congregation in all elements of worship during each service including 
 preaching\, music\, liturgy\, and more. We will also recognize our high sc
 hool seniors and acolytes in the 11 am traditional service.
DTSTART;TZID=America/Chicago:20250316T050000
DTEND;TZID=America/Chicago:20250316T050001
LOCATION:
SUMMARY:Youth Sunday and Senior Recognition
END:VEVENT
END:VCALENDAR
