BEGIN:VCALENDAR
VERSION:2.0
PRODID:-//ipc-usa.org//NONSGML kigkonsult.se iCalcreator 2.30.10//
CALSCALE:GREGORIAN
METHOD:PUBLISH
UID:14874255-9a97-49ef-84b6-1a0d3538c4f1
X-WR-CALDESC:The IPC Middle School Retreat is for youth who have completed 
 6th and 7th grade. Please register to join us at Paradise Pointe in Bryant
 \, Alabama!\n
X-WR-RELCALID:48c749374f463a099a1a1ef701487f65
X-WR-TIMEZONE:America/Chicago
BEGIN:VTIMEZONE
TZID:America/Chicago
BEGIN:STANDARD
TZNAME:CST
DTSTART:20251102T020000
TZOFFSETFROM:-0500
TZOFFSETTO:-0600
RDATE:20261101T020000
RDATE:20271107T020000
END:STANDARD
BEGIN:DAYLIGHT
TZNAME:CDT
DTSTART:20260308T020000
TZOFFSETFROM:-0600
TZOFFSETTO:-0500
RDATE:20270314T020000
END:DAYLIGHT
END:VTIMEZONE
BEGIN:VEVENT
UID:9e2c3bee-3119-4127-886d-d30d60b40f14
DTSTAMP:20260423T090713Z
DESCRIPTION:The IPC Middle School Retreat is for youth who have completed 6
 th and 7th grade. Please register to join us at Paradise Pointe in Bryant\
 , Alabama!\n
DTSTART;TZID=America/Chicago:20260723T050000
DTEND;TZID=America/Chicago:20260726T050001
LOCATION:Paradise Pointe - Bryant\, AL
SUMMARY:IPC Middle School Summer Retreat
END:VEVENT
END:VCALENDAR
