BEGIN:VCALENDAR
VERSION:2.0
PRODID:-//ipc-usa.org//NONSGML kigkonsult.se iCalcreator 2.30.10//
CALSCALE:GREGORIAN
METHOD:PUBLISH
UID:1c523979-3e91-4645-b6ac-809f09c5e907
X-WR-CALDESC:All youth who have completed 8th grade through graduated 12th 
 graders\, are invited to attend our yearly conference from July 12-18\, 20
 26 in Montreat\, North Carolina.
X-WR-RELCALID:1fde8e2d7830511ef44631f27365e4c9
X-WR-TIMEZONE:America/Chicago
BEGIN:VTIMEZONE
TZID:America/Chicago
BEGIN:STANDARD
TZNAME:CST
DTSTART:20251102T020000
TZOFFSETFROM:-0500
TZOFFSETTO:-0600
RDATE:20261101T020000
RDATE:20271107T020000
END:STANDARD
BEGIN:DAYLIGHT
TZNAME:CDT
DTSTART:20260308T020000
TZOFFSETFROM:-0600
TZOFFSETTO:-0500
RDATE:20270314T020000
END:DAYLIGHT
END:VTIMEZONE
BEGIN:VEVENT
UID:f81a0f53-7335-4be8-947e-d730fa08598f
DTSTAMP:20260423T091811Z
DESCRIPTION:All youth who have completed 8th grade through graduated 12th g
 raders\, are invited to attend our yearly conference from July 12-18\, 202
 6 in Montreat\, North Carolina.
DTSTART;TZID=America/Chicago:20260712T050000
DTEND;TZID=America/Chicago:20260718T050001
LOCATION:
SUMMARY:Youth Montreat: Wonder & Wander
END:VEVENT
END:VCALENDAR
