BEGIN:VCALENDAR
VERSION:2.0
PRODID:-//ipc-usa.org//NONSGML kigkonsult.se iCalcreator 2.30.10//
CALSCALE:GREGORIAN
METHOD:PUBLISH
UID:fd44e32d-5498-4f2a-8644-86e82e1e043e
X-WR-CALDESC:IPC will be closed on Monday\, May 25 in observance of the hol
 iday. We will follow the Holiday worship schedule on Sunday\, May 24 with 
 worship at 10 am in the Sanctuary (No Sunday School or Table Worship).
X-WR-RELCALID:f7cc3619e30042de0090faef0f9fc329
X-WR-TIMEZONE:America/Chicago
BEGIN:VTIMEZONE
TZID:America/Chicago
BEGIN:STANDARD
TZNAME:CST
DTSTART:20251102T020000
TZOFFSETFROM:-0500
TZOFFSETTO:-0600
RDATE:20261101T020000
RDATE:20271107T020000
END:STANDARD
BEGIN:DAYLIGHT
TZNAME:CDT
DTSTART:20260308T020000
TZOFFSETFROM:-0600
TZOFFSETTO:-0500
RDATE:20270314T020000
END:DAYLIGHT
END:VTIMEZONE
BEGIN:VEVENT
UID:e1aaa86e-2650-456e-96eb-6dcaf9e6acfa
DTSTAMP:20260422T061048Z
DESCRIPTION:IPC will be closed on Monday\, May 25 in observance of the holi
 day. We will follow the Holiday worship schedule on Sunday\, May 24 with w
 orship at 10 am in the Sanctuary (No Sunday School or Table Worship).
DTSTART;TZID=America/Chicago:20260525T050000
DTEND;TZID=America/Chicago:20260525T050001
LOCATION:Offices Closed
SUMMARY:Memorial Day
END:VEVENT
END:VCALENDAR
