BEGIN:VCALENDAR
VERSION:2.0
PRODID:-//ipc-usa.org//NONSGML kigkonsult.se iCalcreator 2.30.10//
CALSCALE:GREGORIAN
METHOD:PUBLISH
UID:e8218555-5e45-46af-afdd-50f5293779cf
X-WR-CALDESC:Join us on Monday\, May 18 at 7 pm at The Grocery for Beer & H
 ymns! Beer & Hymns is exactly what it sounds like. We sing old-timey hymns
  (plus a few new ones) while enjoying good food and beverages.
X-WR-RELCALID:500aaeefce0e5f8c704954495dbab445
X-WR-TIMEZONE:America/Chicago
BEGIN:VTIMEZONE
TZID:America/Chicago
BEGIN:STANDARD
TZNAME:CST
DTSTART:20251102T020000
TZOFFSETFROM:-0500
TZOFFSETTO:-0600
RDATE:20261101T020000
RDATE:20271107T020000
END:STANDARD
BEGIN:DAYLIGHT
TZNAME:CDT
DTSTART:20260308T020000
TZOFFSETFROM:-0600
TZOFFSETTO:-0500
RDATE:20270314T020000
END:DAYLIGHT
END:VTIMEZONE
BEGIN:VEVENT
UID:310e245d-79f9-460e-a358-fe3410974b86
DTSTAMP:20260423T071121Z
DESCRIPTION:Join us on Monday\, May 18 at 7 pm at The Grocery for Beer & Hy
 mns! Beer & Hymns is exactly what it sounds like. We sing old-timey hymns 
 (plus a few new ones) while enjoying good food and beverages.
DTSTART;TZID=America/Chicago:20260518T190000
DTEND;TZID=America/Chicago:20260518T190000
LOCATION:The Grocery at 2823 Central Ave.\, in Homewood!
SUMMARY:Beer & Hymns
END:VEVENT
END:VCALENDAR
