BEGIN:VCALENDAR
VERSION:2.0
PRODID:-//ipc-usa.org//NONSGML kigkonsult.se iCalcreator 2.30.10//
CALSCALE:GREGORIAN
METHOD:PUBLISH
UID:59fe8df3-7f94-4c92-aad7-8c587be392d8
X-WR-CALDESC:On May 17 at 4 pm\, the IPC Choir will present their Spring “B
 on Voyage” Concert in the Sanctuary. The first half will consist of well-k
 nown anthems that will be presented in concert during the 2026 Choir Tour 
 to Switzerland. This is 30 minutes of music from the vast repertoire of th
 e choir that has been heard in worship this Spring. The second half of the
  concert will feature the choir with string orchestra performing the 'Sole
 mn Vespers' by W.A. Mozart. Soloists will be soprano Kristine Hurst-Wajszc
 zuk\, alto Lara Wilson\, tenor Austin Green\, and bass Richard Stump. Plea
 se come with your friends to this beautiful afternoon of music as we wish 
 the choir bon voyage!\n\n<i>The IPC Choir will travel to Switzerland May 2
 5 through June 3!</i>
X-WR-RELCALID:a56e1bdeb81d2b6c6bb61563d504df51
X-WR-TIMEZONE:America/Chicago
BEGIN:VTIMEZONE
TZID:America/Chicago
BEGIN:STANDARD
TZNAME:CST
DTSTART:20251102T020000
TZOFFSETFROM:-0500
TZOFFSETTO:-0600
RDATE:20261101T020000
RDATE:20271107T020000
END:STANDARD
BEGIN:DAYLIGHT
TZNAME:CDT
DTSTART:20260308T020000
TZOFFSETFROM:-0600
TZOFFSETTO:-0500
RDATE:20270314T020000
END:DAYLIGHT
END:VTIMEZONE
BEGIN:VEVENT
UID:3966c3bd-f383-484e-ae58-b8d78172cfee
DTSTAMP:20260423T071305Z
DESCRIPTION:On May 17 at 4 pm\, the IPC Choir will present their Spring “Bo
 n Voyage” Concert in the Sanctuary. The first half will consist of well-kn
 own anthems that will be presented in concert during the 2026 Choir Tour t
 o Switzerland. This is 30 minutes of music from the vast repertoire of the
  choir that has been heard in worship this Spring. The second half of the 
 concert will feature the choir with string orchestra performing the 'Solem
 n Vespers' by W.A. Mozart. Soloists will be soprano Kristine Hurst-Wajszcz
 uk\, alto Lara Wilson\, tenor Austin Green\, and bass Richard Stump. Pleas
 e come with your friends to this beautiful afternoon of music as we wish t
 he choir bon voyage!\n\n<i>The IPC Choir will travel to Switzerland May 25
  through June 3!</i>
DTSTART;TZID=America/Chicago:20260517T160000
DTEND;TZID=America/Chicago:20260517T170000
LOCATION:Sanctuary
SUMMARY:IPC Choir Spring Concert
END:VEVENT
END:VCALENDAR
