BEGIN:VCALENDAR
VERSION:2.0
PRODID:-//ipc-usa.org//NONSGML kigkonsult.se iCalcreator 2.30.10//
CALSCALE:GREGORIAN
METHOD:PUBLISH
UID:49fa8db4-7575-42e7-9cd5-0b357cde014b
X-WR-CALDESC:6th Graders and their families are invited to join Cammie and 
 Grace for a light brunch and information session on May 3 before 11 am wor
 ship. We will recognize all 6th Graders during 11 am worship in the Sanctu
 ary.
X-WR-RELCALID:8a80e22e32a6cf6ba6c4dca485877593
X-WR-TIMEZONE:America/Chicago
BEGIN:VTIMEZONE
TZID:America/Chicago
BEGIN:STANDARD
TZNAME:CST
DTSTART:20251102T020000
TZOFFSETFROM:-0500
TZOFFSETTO:-0600
RDATE:20261101T020000
END:STANDARD
BEGIN:DAYLIGHT
TZNAME:CDT
DTSTART:20260308T020000
TZOFFSETFROM:-0600
TZOFFSETTO:-0500
RDATE:20270314T020000
END:DAYLIGHT
END:VTIMEZONE
BEGIN:VEVENT
UID:6ba38c24-eaf7-46ba-a007-f9a80c634804
DTSTAMP:20260423T071331Z
DESCRIPTION:6th Graders and their families are invited to join Cammie and G
 race for a light brunch and information session on May 3 before 11 am wors
 hip. We will recognize all 6th Graders during 11 am worship in the Sanctua
 ry.
DTSTART;TZID=America/Chicago:20260503T100000
DTEND;TZID=America/Chicago:20260503T100000
LOCATION:Sanctuary
SUMMARY:6th Grade Brunch and Recognition
END:VEVENT
END:VCALENDAR
