BEGIN:VCALENDAR
VERSION:2.0
PRODID:-//ipc-usa.org//NONSGML kigkonsult.se iCalcreator 2.30.10//
CALSCALE:GREGORIAN
METHOD:PUBLISH
UID:5449fe28-5207-442a-beac-9aa709183390
X-WR-CALDESC:We are so proud of our rising 3's who are graduating Toddler A
 trium and moving up to Level 1 next year! Join us for a presentation of a 
 special Bible\, all their own.
X-WR-RELCALID:02a9d0bad3bb360b6f63e74cad8f240b
X-WR-TIMEZONE:America/Chicago
BEGIN:VTIMEZONE
TZID:America/Chicago
BEGIN:STANDARD
TZNAME:CST
DTSTART:20251102T020000
TZOFFSETFROM:-0500
TZOFFSETTO:-0600
RDATE:20261101T020000
END:STANDARD
BEGIN:DAYLIGHT
TZNAME:CDT
DTSTART:20260308T020000
TZOFFSETFROM:-0600
TZOFFSETTO:-0500
RDATE:20270314T020000
END:DAYLIGHT
END:VTIMEZONE
BEGIN:VEVENT
UID:7509c0fe-338f-4137-a609-54b841c94e9b
DTSTAMP:20260422T060313Z
DESCRIPTION:We are so proud of our rising 3's who are graduating Toddler At
 rium and moving up to Level 1 next year! Join us for a presentation of a s
 pecial Bible\, all their own.
DTSTART;TZID=America/Chicago:20260503T100000
DTEND;TZID=America/Chicago:20260503T110000
LOCATION:Toddler Atrium
SUMMARY:2's Bible Presentation
END:VEVENT
END:VCALENDAR
