BEGIN:VCALENDAR
VERSION:2.0
PRODID:-//ipc-usa.org//NONSGML kigkonsult.se iCalcreator 2.30.10//
CALSCALE:GREGORIAN
METHOD:PUBLISH
UID:e9f8f7d9-9202-42a9-b80b-7149585f3a29
X-WR-CALDESC:Volunteer with your family or a group to provide evening meals
  for the women and children staying at First Light. IPC will be providing 
 evening meals April 19-25.
X-WR-RELCALID:afc84dd520f5acc5d5f5747dd53904fb
X-WR-TIMEZONE:America/Chicago
BEGIN:VTIMEZONE
TZID:America/Chicago
BEGIN:STANDARD
TZNAME:CST
DTSTART:20251102T020000
TZOFFSETFROM:-0500
TZOFFSETTO:-0600
RDATE:20261101T020000
END:STANDARD
BEGIN:DAYLIGHT
TZNAME:CDT
DTSTART:20260308T020000
TZOFFSETFROM:-0600
TZOFFSETTO:-0500
RDATE:20270314T020000
END:DAYLIGHT
END:VTIMEZONE
BEGIN:VEVENT
UID:876cd500-4d02-46f9-b140-12cfecd92e3e
DTSTAMP:20260421T032523Z
DESCRIPTION:Volunteer with your family or a group to provide evening meals 
 for the women and children staying at First Light. IPC will be providing e
 vening meals April 19-25.
DTSTART;TZID=America/Chicago:20260419T050000
DTEND;TZID=America/Chicago:20260425T050001
LOCATION:
SUMMARY:Provide and Serve Dinner at First Light
END:VEVENT
END:VCALENDAR
