BEGIN:VCALENDAR
VERSION:2.0
PRODID:-//ipc-usa.org//NONSGML kigkonsult.se iCalcreator 2.30.10//
CALSCALE:GREGORIAN
METHOD:PUBLISH
UID:3455944f-7273-492b-96bf-6f85fbd489a4
X-WR-CALDESC:Children in first through sixth grade will have the opportunit
 y to stay in the atrium until 11:40 am on the first Sunday of every month 
 from February until May. Children will be brought into the sanctuary to ta
 ke communion with their families.
X-WR-RELCALID:14ca5a368aec3a97689fb1cd3af97c67
X-WR-TIMEZONE:America/Chicago
BEGIN:VTIMEZONE
TZID:America/Chicago
BEGIN:STANDARD
TZNAME:CST
DTSTART:20241103T020000
TZOFFSETFROM:-0500
TZOFFSETTO:-0600
RDATE:20251102T020000
END:STANDARD
BEGIN:DAYLIGHT
TZNAME:CDT
DTSTART:20240310T020000
TZOFFSETFROM:-0600
TZOFFSETTO:-0500
RDATE:20250309T020000
RDATE:20260308T020000
END:DAYLIGHT
END:VTIMEZONE
BEGIN:VEVENT
UID:66e967cc-e1e6-4572-83d3-7c15eb5ff5e2
DTSTAMP:20260422T082337Z
DESCRIPTION:Children in first through sixth grade will have the opportunity
  to stay in the atrium until 11:40 am on the first Sunday of every month f
 rom February until May. Children will be brought into the sanctuary to tak
 e communion with their families.
DTSTART;TZID=America/Chicago:20250302T100000
DTEND;TZID=America/Chicago:20250302T113000
LOCATION:
SUMMARY:Extended Atrium for Levels 2 & 3
END:VEVENT
END:VCALENDAR
