BEGIN:VCALENDAR
VERSION:2.0
PRODID:-//ipc-usa.org//NONSGML kigkonsult.se iCalcreator 2.30.10//
CALSCALE:GREGORIAN
METHOD:PUBLISH
UID:c5f6b4ad-6994-4714-845d-fe72460784da
X-WR-CALDESC:Order your IPC Youth Cookbook filled with cherished recipes ge
 nerously shared by members of our congregation. We have a limited supply o
 f cookbooks available for purchase both online and in-person at IPC. If th
 ere is enough interest\, we will consider doing a second print run. Procee
 ds help support scholarships for IPC Youth trips and retreats.
X-WR-RELCALID:021dbf31ad367429eacabfe1ce17a5ac
X-WR-TIMEZONE:America/Chicago
BEGIN:VTIMEZONE
TZID:America/Chicago
BEGIN:STANDARD
TZNAME:CST
DTSTART:20231105T020000
TZOFFSETFROM:-0500
TZOFFSETTO:-0600
RDATE:20241103T020000
RDATE:20251102T020000
END:STANDARD
BEGIN:DAYLIGHT
TZNAME:CDT
DTSTART:20240310T020000
TZOFFSETFROM:-0600
TZOFFSETTO:-0500
RDATE:20250309T020000
END:DAYLIGHT
END:VTIMEZONE
BEGIN:VEVENT
UID:1cc7326d-6f53-445d-ac45-8ffbfe722794
DTSTAMP:20260420T185315Z
DESCRIPTION:Order your IPC Youth Cookbook filled with cherished recipes gen
 erously shared by members of our congregation. We have a limited supply of
  cookbooks available for purchase both online and in-person at IPC. If the
 re is enough interest\, we will consider doing a second print run. Proceed
 s help support scholarships for IPC Youth trips and retreats.
DTSTART;TZID=America/Chicago:20240825T050000
DTEND;TZID=America/Chicago:20240924T050001
LOCATION:
SUMMARY:IPC Youth Cookbook Sales
END:VEVENT
END:VCALENDAR
